BEGIN:VCALENDAR
VERSION:2.0
PRODID:-//wp-events-plugin.com//7.0.2//EN
TZID:Europe/Zagreb
X-WR-TIMEZONE:Europe/Zagreb
BEGIN:VEVENT
UID:15@puffestival.eu
DTSTART;TZID=Europe/Zagreb:20241004T200000
DTEND;TZID=Europe/Zagreb:20241004T210000
DTSTAMP:20240930T073855Z
URL:https://puffestival.eu/events/contaclac-francuska-anna/
SUMMARY:Laboration Art Company (Francuska/France) - Anna
DESCRIPTION:LAC je francusko-luksemburška družina za suvremeni ples koju 
 vodi Laura Arend. Stvaralaštvo družine je rezultat utjecaja stvarnosti u
  prostoru reprezentacije. Kroz predani i zahtjevni ples te senzibilnu virt
 uoznost tijela\, koreografkinja priziva naše kolektivno kulturno sjećanj
 e. Iskustvo fizičkog i metaforičkog putovanja zauzima središnje mjesto 
 u koreografskom djelu. Laura Arend se predano posvećuje socio-kulturološ
 kim pitanjima putem scenskog osnaživanja statusa emancipirane\, slobodne 
 i moćne žene.\n\nAnna je vrlo fizičko suvremeno plesno djelo koreografk
 inje Laure Arend\, nadahnuto postignućima pet izvanrednih\, ali često za
 nemarenih njemačkih žena od 19. do 21. stoljeća. Lise Meitner\, Sophie 
 Scholl\, Clärenore Stinnes\, Pina Bausch i Clara Schumann dale su značaj
 an doprinos u svojim poljima\, zbog čega im predstava odaje počast. Aren
 d istražuje kako odlučnost i postignuća ovih žena nastavljaju inspirir
 ati i utjecati na suvremeno društvo. Djelo poziva gledatelje na promišlj
 anje načina na koji nas ta povijesna nasljeđa - koja sažimaju trenutke 
 čiste ljubavi i umjetničke ljepote usred surovosti modernog svijeta - mo
 gu voditi ka budućnosti punoj nade i snage.\n\nPlesačice/Dancers: Laura 
 Arend\, Alex Blondeau\, Fanny Sage\nDizajn svjetla/Lighting design: Jean-Y
 ves Beck\nKostimografija/Costume design: Genevieve Pfeffer\nScenografija/S
 et design: Laura Arend\n\nPotrebno je preuzeti ulaznicu uz participaciju o
 d 1. eura. The tickets should be picked up in advance with a participation
  fee of 1 euro.\nMolimo isključite mobitele. Please\, switch off your mob
 ile phone.\nZabranjeno fotografiranje i snimanje. No photography or video.
 \n\n&nbsp\;\n\nLAC is a Franco-Luxembourg contemporary dance company led b
 y Laura Arend. The company's creations are the result of the impact of rea
 lity in the space of representation. Through a committed and demanding dan
 ce and a sensitive virtuosity of the body\, the choreographer summons our 
 collective cultural memory. The experience of the physical and metaphorica
 l journey occupies a central place in the choreographic work. Laura Arend 
 pursues her commitment to socio-cultural issues by reinforcing on stage th
 e status of the emancipated\, free and powerful woman.\n\nAnna is a highly
  physical contemporary dance piece by choreographer Laura Arend\, inspired
  by the achievements of five remarkable yet often overlooked German women 
 from the 19th to the 21st century. The performance pays tribute to Lise Me
 itner\, Sophie Scholl\, Clärenore Stinnes\, Pina Bausch\, and Clara Schum
 ann\, each of whom made significant contributions in their respective fiel
 ds. Arend explores how the determination and achievements of these women c
 ontinue to inspire and influence contemporary society. The piece invites v
 iewers to consider how these historical legacies can guide us towards a ho
 peful and empowered future\, encapsulating moments of pure love and artist
 ic beauty amidst the harshness of the modern world.
ATTACH;FMTTYPE=image/jpeg:https://puffestival.eu/wp-content/uploads/2024/0
 9/IMG_0636.jpg
LOCATION:INK/Istrian National Theatre\, Laginjina ulica 5\, Pula\, 52100\, 
 Croatia
GEO:44.86724;13.847237
X-APPLE-STRUCTURED-LOCATION;VALUE=URI;X-ADDRESS=Laginjina ulica 5\, Pula\, 
 52100\, Croatia;X-APPLE-RADIUS=100;X-TITLE=INK/Istrian National Theatre:ge
 o:44.86724,13.847237
END:VEVENT
BEGIN:VTIMEZONE
TZID:Europe/Zagreb
X-LIC-LOCATION:Europe/Zagreb
BEGIN:DAYLIGHT
DTSTART:20240331T030000
TZOFFSETFROM:+0100
TZOFFSETTO:+0200
TZNAME:CEST
END:DAYLIGHT
END:VTIMEZONE
END:VCALENDAR