BEGIN:VCALENDAR
VERSION:2.0
PRODID:-//wp-events-plugin.com//7.0.2//EN
TZID:Europe/Zagreb
X-WR-TIMEZONE:Europe/Zagreb
BEGIN:VEVENT
UID:29@puffestival.eu
DTSTART;TZID=Europe/Zagreb:20250702T100000
DTEND;TZID=Europe/Zagreb:20250702T105500
DTSTAMP:20250624T101914Z
URL:https://puffestival.eu/events/tricycle-trauma-teatar-cirkus-punkt-jeka
 -hrvatska-croatia/
SUMMARY:Tricycle trauma\, Teatar Cirkus Punkt Jeka (Hrvatska/Croatia)
DESCRIPTION:Autorice: Ivana Pedljo i Lidija Kraljić\nMajstor tehnike\, ton
 a\, svjetla\, autor glazbe: Jasmin Dasović\nKostimografkinja: Karmen Perk
 ović\nScenski tehničar Nikola Brkić\nSuradnica za pokret: Lucija Romano
 va\nTehnička potpora: Maxime Weinmann\, Mario Fudurić\, Marko Delić\nDi
 zajner plakata\; Lovro Škiljić / Biblical Violence Illustrations\nHitne 
 intervencije: Tomislav Crnković\, Marijana Matoković\nFotografi: Josip B
 olonić\, Ivan Marenić\nPosebne zahvale Damiru Bartolu Indošu\nProdukcij
 a Tricycle Trauma\, Teatar Cirkus Punkt\, Kazalište u Močvari-KUM\n\nJek
 a je neverbalna predstava sa suptilno zlokobnom atmosferom\, koja prikazuj
 e kaos egzistencijalne prirode\, nestabilnost naizgled čvrstih oblika i i
 nherentnu besmislenost materijalnog univerzuma.\nPredstava je ukorijenjena
  u ideji da je svekoliko postojanje na rubu da sklizne u neočekivanu prop
 ast i noćnu moru\, polazeći od ideje Thomasa Ligottija da se „Od užas
 a (postojanja) možemo sakriti samo u samom srcu užasa. „ Predstava je 
 inspirirana horor fikcijom Thomasa Ligottija i radom Davida Lyncha\, s pos
 ebnim naglaskom na Twin Peaks.\nDominantni motiv Jeke je udvajanje. Je li 
 to jedna udvojena žena u crvenoj haljini i elegantnim crvenim cipelicama 
 na petu\, ili su njih dvije?\; crveno i crno u sjeni ili odrazu\, međusob
 na jeka?\nMistična i poetična\, uzbudljiva\, zaigrana i vješta Jeka ost
 avlja dojam bivanja ovdje i onkraj\; supostojanje s obje strane ogledala 
 čije se staklo muti.\n\n— Maja Đurinović.\n\nAuthors: Ivana Pedljo an
 d Lidija Kraljić\nTechnical\, sound and light master\, music composer: Ja
 smin Dasović\nCostume designer: Karmen Perković\nStage technician: Nikol
 a Brkić\nMovement consultant: Lucija Romanova\nTechnical support: Maxime 
 Weinmann\, Mario Fudurić\, Marko Delić\nPoster designer: Lovro Škiljić
  / Biblical Violence Illustrations\nEmergency interventions: Tomislav Crnk
 ović\, Marijana Matoković\nPhotographers: Josip Bolonić\, Ivan Marenić
 \nSpecial thanks to: Damir Bartol Indoš\n\nProduction: Tricycle Trauma\, 
 Teatar Cirkus Punkt\, Kazalište u Močvari (KUM)\n\nJeka (Echo) is a non-
 verbal performance with a subtly ominous atmosphere\, portraying the chaos
  of existential nature\, the instability of seemingly solid forms\, and th
 e inherent meaninglessness of the material universe.\nThe performance is r
 ooted in the idea that all existence teeters on the edge of unexpected col
 lapse and nightmare\, drawing from Thomas Ligotti’s notion that “we ca
 n only hide from the horror (of\nexistence) in the very heart of horror.
 ”\nThe piece is inspired by the horror fiction of Thomas Ligotti and the
  work of David Lynch\, with particular emphasis on Twin Peaks.\nThe domina
 nt motif of Jeka (Echo) is doubling. Is it one woman doubled — in a red 
 dress and elegant red high-heeled shoes — or are there two of them? Red 
 and black\, in shadow or reflection\, an echo of one another? Mysterious a
 nd poetic\, thrilling\, playful\, and skillful\, Jeka evokes a sense of be
 ing both here and beyond — a coexistence on both sides of the mirror\, w
 hose glass is beginning to blur.\n— Maja Đurinović
ATTACH;FMTTYPE=image/jpeg:https://puffestival.eu/wp-content/uploads/2025/0
 6/Jeka-scaled.jpg
LOCATION:Kazalište Dr. Inat/Theatre Dr. Inat\, Ulica Ljudevita Gaja 3\, Pu
 la\, 52100\, Croatia
GEO:44.863329;13.844541
X-APPLE-STRUCTURED-LOCATION;VALUE=URI;X-ADDRESS=Ulica Ljudevita Gaja 3\, Pu
 la\, 52100\, Croatia;X-APPLE-RADIUS=100;X-TITLE=Kazalište Dr. Inat/Theatr
 e Dr. Inat:geo:44.863329,13.844541
END:VEVENT
BEGIN:VTIMEZONE
TZID:Europe/Zagreb
X-LIC-LOCATION:Europe/Zagreb
BEGIN:DAYLIGHT
DTSTART:20250330T030000
TZOFFSETFROM:+0100
TZOFFSETTO:+0200
TZNAME:CEST
END:DAYLIGHT
END:VTIMEZONE
END:VCALENDAR